BEGIN:VCALENDAR
VERSION:2.0
PRODID:-//Fort Lauderdale - ECPv6.15.17//NONSGML v1.0//EN
CALSCALE:GREGORIAN
METHOD:PUBLISH
X-WR-CALNAME:Fort Lauderdale
X-ORIGINAL-URL:https://fortlauderdale.bluemartini.com
X-WR-CALDESC:Events for Fort Lauderdale
REFRESH-INTERVAL;VALUE=DURATION:PT1H
X-Robots-Tag:noindex
X-PUBLISHED-TTL:PT1H
BEGIN:VTIMEZONE
TZID:America/New_York
BEGIN:DAYLIGHT
TZOFFSETFROM:-0500
TZOFFSETTO:-0400
TZNAME:EDT
DTSTART:20250309T070000
END:DAYLIGHT
BEGIN:STANDARD
TZOFFSETFROM:-0400
TZOFFSETTO:-0500
TZNAME:EST
DTSTART:20251102T060000
END:STANDARD
BEGIN:DAYLIGHT
TZOFFSETFROM:-0500
TZOFFSETTO:-0400
TZNAME:EDT
DTSTART:20260308T070000
END:DAYLIGHT
BEGIN:STANDARD
TZOFFSETFROM:-0400
TZOFFSETTO:-0500
TZNAME:EST
DTSTART:20261101T060000
END:STANDARD
BEGIN:DAYLIGHT
TZOFFSETFROM:-0500
TZOFFSETTO:-0400
TZNAME:EDT
DTSTART:20270314T070000
END:DAYLIGHT
BEGIN:STANDARD
TZOFFSETFROM:-0400
TZOFFSETTO:-0500
TZNAME:EST
DTSTART:20271107T060000
END:STANDARD
END:VTIMEZONE
BEGIN:VEVENT
DTSTART;TZID=America/New_York:20260422T140000
DTEND;TZID=America/New_York:20260423T040000
DTSTAMP:20260422T072318
CREATED:20251010T221437Z
LAST-MODIFIED:20251010T221438Z
UID:10005365-1776866400-1776916800@fortlauderdale.bluemartini.com
SUMMARY:LADIES NIGHT
DESCRIPTION:50% OFF DRINKS\nNO LINE NO COVER
URL:https://fortlauderdale.bluemartini.com/event/ladies-night-2/2026-04-22/
LOCATION:Blue Martini – Fort Lauderdale\, 2432 E Sunrise Blvd\, Fort Lauderdale\, Florida\, 33304
GEO:26.13781;-80.11346
X-APPLE-STRUCTURED-LOCATION;VALUE=URI;X-ADDRESS=Blue Martini – Fort Lauderdale 2432 E Sunrise Blvd Fort Lauderdale Florida 33304;X-APPLE-RADIUS=500;X-TITLE=2432 E Sunrise Blvd:geo:-80.11346,26.13781
END:VEVENT
BEGIN:VEVENT
DTSTART;TZID=America/New_York:20260429T140000
DTEND;TZID=America/New_York:20260430T040000
DTSTAMP:20260422T072318
CREATED:20251010T221437Z
LAST-MODIFIED:20251010T221438Z
UID:10005366-1777471200-1777521600@fortlauderdale.bluemartini.com
SUMMARY:LADIES NIGHT
DESCRIPTION:50% OFF DRINKS\nNO LINE NO COVER
URL:https://fortlauderdale.bluemartini.com/event/ladies-night-2/2026-04-29/
LOCATION:Blue Martini – Fort Lauderdale\, 2432 E Sunrise Blvd\, Fort Lauderdale\, Florida\, 33304
GEO:26.13781;-80.11346
X-APPLE-STRUCTURED-LOCATION;VALUE=URI;X-ADDRESS=Blue Martini – Fort Lauderdale 2432 E Sunrise Blvd Fort Lauderdale Florida 33304;X-APPLE-RADIUS=500;X-TITLE=2432 E Sunrise Blvd:geo:-80.11346,26.13781
END:VEVENT
BEGIN:VEVENT
DTSTART;TZID=America/New_York:20260506T140000
DTEND;TZID=America/New_York:20260507T040000
DTSTAMP:20260422T072318
CREATED:20251010T221437Z
LAST-MODIFIED:20251010T221438Z
UID:10005367-1778076000-1778126400@fortlauderdale.bluemartini.com
SUMMARY:LADIES NIGHT
DESCRIPTION:50% OFF DRINKS\nNO LINE NO COVER
URL:https://fortlauderdale.bluemartini.com/event/ladies-night-2/2026-05-06/
LOCATION:Blue Martini – Fort Lauderdale\, 2432 E Sunrise Blvd\, Fort Lauderdale\, Florida\, 33304
GEO:26.13781;-80.11346
X-APPLE-STRUCTURED-LOCATION;VALUE=URI;X-ADDRESS=Blue Martini – Fort Lauderdale 2432 E Sunrise Blvd Fort Lauderdale Florida 33304;X-APPLE-RADIUS=500;X-TITLE=2432 E Sunrise Blvd:geo:-80.11346,26.13781
END:VEVENT
BEGIN:VEVENT
DTSTART;TZID=America/New_York:20260513T140000
DTEND;TZID=America/New_York:20260514T040000
DTSTAMP:20260422T072318
CREATED:20251010T221437Z
LAST-MODIFIED:20251010T221438Z
UID:10005368-1778680800-1778731200@fortlauderdale.bluemartini.com
SUMMARY:LADIES NIGHT
DESCRIPTION:50% OFF DRINKS\nNO LINE NO COVER
URL:https://fortlauderdale.bluemartini.com/event/ladies-night-2/2026-05-13/
LOCATION:Blue Martini – Fort Lauderdale\, 2432 E Sunrise Blvd\, Fort Lauderdale\, Florida\, 33304
GEO:26.13781;-80.11346
X-APPLE-STRUCTURED-LOCATION;VALUE=URI;X-ADDRESS=Blue Martini – Fort Lauderdale 2432 E Sunrise Blvd Fort Lauderdale Florida 33304;X-APPLE-RADIUS=500;X-TITLE=2432 E Sunrise Blvd:geo:-80.11346,26.13781
END:VEVENT
BEGIN:VEVENT
DTSTART;TZID=America/New_York:20260520T140000
DTEND;TZID=America/New_York:20260521T040000
DTSTAMP:20260422T072318
CREATED:20251010T221437Z
LAST-MODIFIED:20251010T221438Z
UID:10005369-1779285600-1779336000@fortlauderdale.bluemartini.com
SUMMARY:LADIES NIGHT
DESCRIPTION:50% OFF DRINKS\nNO LINE NO COVER
URL:https://fortlauderdale.bluemartini.com/event/ladies-night-2/2026-05-20/
LOCATION:Blue Martini – Fort Lauderdale\, 2432 E Sunrise Blvd\, Fort Lauderdale\, Florida\, 33304
GEO:26.13781;-80.11346
X-APPLE-STRUCTURED-LOCATION;VALUE=URI;X-ADDRESS=Blue Martini – Fort Lauderdale 2432 E Sunrise Blvd Fort Lauderdale Florida 33304;X-APPLE-RADIUS=500;X-TITLE=2432 E Sunrise Blvd:geo:-80.11346,26.13781
END:VEVENT
BEGIN:VEVENT
DTSTART;TZID=America/New_York:20260527T140000
DTEND;TZID=America/New_York:20260528T040000
DTSTAMP:20260422T072318
CREATED:20251010T221437Z
LAST-MODIFIED:20251010T221438Z
UID:10005370-1779890400-1779940800@fortlauderdale.bluemartini.com
SUMMARY:LADIES NIGHT
DESCRIPTION:50% OFF DRINKS\nNO LINE NO COVER
URL:https://fortlauderdale.bluemartini.com/event/ladies-night-2/2026-05-27/
LOCATION:Blue Martini – Fort Lauderdale\, 2432 E Sunrise Blvd\, Fort Lauderdale\, Florida\, 33304
GEO:26.13781;-80.11346
X-APPLE-STRUCTURED-LOCATION;VALUE=URI;X-ADDRESS=Blue Martini – Fort Lauderdale 2432 E Sunrise Blvd Fort Lauderdale Florida 33304;X-APPLE-RADIUS=500;X-TITLE=2432 E Sunrise Blvd:geo:-80.11346,26.13781
END:VEVENT
BEGIN:VEVENT
DTSTART;TZID=America/New_York:20260603T140000
DTEND;TZID=America/New_York:20260604T040000
DTSTAMP:20260422T072318
CREATED:20251010T221437Z
LAST-MODIFIED:20251010T221438Z
UID:10005371-1780495200-1780545600@fortlauderdale.bluemartini.com
SUMMARY:LADIES NIGHT
DESCRIPTION:50% OFF DRINKS\nNO LINE NO COVER
URL:https://fortlauderdale.bluemartini.com/event/ladies-night-2/2026-06-03/
LOCATION:Blue Martini – Fort Lauderdale\, 2432 E Sunrise Blvd\, Fort Lauderdale\, Florida\, 33304
GEO:26.13781;-80.11346
X-APPLE-STRUCTURED-LOCATION;VALUE=URI;X-ADDRESS=Blue Martini – Fort Lauderdale 2432 E Sunrise Blvd Fort Lauderdale Florida 33304;X-APPLE-RADIUS=500;X-TITLE=2432 E Sunrise Blvd:geo:-80.11346,26.13781
END:VEVENT
BEGIN:VEVENT
DTSTART;TZID=America/New_York:20260610T140000
DTEND;TZID=America/New_York:20260611T040000
DTSTAMP:20260422T072318
CREATED:20251010T221437Z
LAST-MODIFIED:20251010T221438Z
UID:10005372-1781100000-1781150400@fortlauderdale.bluemartini.com
SUMMARY:LADIES NIGHT
DESCRIPTION:50% OFF DRINKS\nNO LINE NO COVER
URL:https://fortlauderdale.bluemartini.com/event/ladies-night-2/2026-06-10/
LOCATION:Blue Martini – Fort Lauderdale\, 2432 E Sunrise Blvd\, Fort Lauderdale\, Florida\, 33304
GEO:26.13781;-80.11346
X-APPLE-STRUCTURED-LOCATION;VALUE=URI;X-ADDRESS=Blue Martini – Fort Lauderdale 2432 E Sunrise Blvd Fort Lauderdale Florida 33304;X-APPLE-RADIUS=500;X-TITLE=2432 E Sunrise Blvd:geo:-80.11346,26.13781
END:VEVENT
BEGIN:VEVENT
DTSTART;TZID=America/New_York:20260617T140000
DTEND;TZID=America/New_York:20260618T040000
DTSTAMP:20260422T072318
CREATED:20251010T221437Z
LAST-MODIFIED:20251010T221438Z
UID:10005373-1781704800-1781755200@fortlauderdale.bluemartini.com
SUMMARY:LADIES NIGHT
DESCRIPTION:50% OFF DRINKS\nNO LINE NO COVER
URL:https://fortlauderdale.bluemartini.com/event/ladies-night-2/2026-06-17/
LOCATION:Blue Martini – Fort Lauderdale\, 2432 E Sunrise Blvd\, Fort Lauderdale\, Florida\, 33304
GEO:26.13781;-80.11346
X-APPLE-STRUCTURED-LOCATION;VALUE=URI;X-ADDRESS=Blue Martini – Fort Lauderdale 2432 E Sunrise Blvd Fort Lauderdale Florida 33304;X-APPLE-RADIUS=500;X-TITLE=2432 E Sunrise Blvd:geo:-80.11346,26.13781
END:VEVENT
BEGIN:VEVENT
DTSTART;TZID=America/New_York:20260624T140000
DTEND;TZID=America/New_York:20260625T040000
DTSTAMP:20260422T072318
CREATED:20251010T221437Z
LAST-MODIFIED:20251010T221438Z
UID:10005374-1782309600-1782360000@fortlauderdale.bluemartini.com
SUMMARY:LADIES NIGHT
DESCRIPTION:50% OFF DRINKS\nNO LINE NO COVER
URL:https://fortlauderdale.bluemartini.com/event/ladies-night-2/2026-06-24/
LOCATION:Blue Martini – Fort Lauderdale\, 2432 E Sunrise Blvd\, Fort Lauderdale\, Florida\, 33304
GEO:26.13781;-80.11346
X-APPLE-STRUCTURED-LOCATION;VALUE=URI;X-ADDRESS=Blue Martini – Fort Lauderdale 2432 E Sunrise Blvd Fort Lauderdale Florida 33304;X-APPLE-RADIUS=500;X-TITLE=2432 E Sunrise Blvd:geo:-80.11346,26.13781
END:VEVENT
BEGIN:VEVENT
DTSTART;TZID=America/New_York:20260701T140000
DTEND;TZID=America/New_York:20260702T040000
DTSTAMP:20260422T072318
CREATED:20251010T221437Z
LAST-MODIFIED:20251010T221438Z
UID:10005375-1782914400-1782964800@fortlauderdale.bluemartini.com
SUMMARY:LADIES NIGHT
DESCRIPTION:50% OFF DRINKS\nNO LINE NO COVER
URL:https://fortlauderdale.bluemartini.com/event/ladies-night-2/2026-07-01/
LOCATION:Blue Martini – Fort Lauderdale\, 2432 E Sunrise Blvd\, Fort Lauderdale\, Florida\, 33304
GEO:26.13781;-80.11346
X-APPLE-STRUCTURED-LOCATION;VALUE=URI;X-ADDRESS=Blue Martini – Fort Lauderdale 2432 E Sunrise Blvd Fort Lauderdale Florida 33304;X-APPLE-RADIUS=500;X-TITLE=2432 E Sunrise Blvd:geo:-80.11346,26.13781
END:VEVENT
BEGIN:VEVENT
DTSTART;TZID=America/New_York:20260708T140000
DTEND;TZID=America/New_York:20260709T040000
DTSTAMP:20260422T072318
CREATED:20251010T221437Z
LAST-MODIFIED:20251010T221438Z
UID:10005376-1783519200-1783569600@fortlauderdale.bluemartini.com
SUMMARY:LADIES NIGHT
DESCRIPTION:50% OFF DRINKS\nNO LINE NO COVER
URL:https://fortlauderdale.bluemartini.com/event/ladies-night-2/2026-07-08/
LOCATION:Blue Martini – Fort Lauderdale\, 2432 E Sunrise Blvd\, Fort Lauderdale\, Florida\, 33304
GEO:26.13781;-80.11346
X-APPLE-STRUCTURED-LOCATION;VALUE=URI;X-ADDRESS=Blue Martini – Fort Lauderdale 2432 E Sunrise Blvd Fort Lauderdale Florida 33304;X-APPLE-RADIUS=500;X-TITLE=2432 E Sunrise Blvd:geo:-80.11346,26.13781
END:VEVENT
BEGIN:VEVENT
DTSTART;TZID=America/New_York:20260715T140000
DTEND;TZID=America/New_York:20260716T040000
DTSTAMP:20260422T072318
CREATED:20251010T221437Z
LAST-MODIFIED:20251010T221438Z
UID:10005377-1784124000-1784174400@fortlauderdale.bluemartini.com
SUMMARY:LADIES NIGHT
DESCRIPTION:50% OFF DRINKS\nNO LINE NO COVER
URL:https://fortlauderdale.bluemartini.com/event/ladies-night-2/2026-07-15/
LOCATION:Blue Martini – Fort Lauderdale\, 2432 E Sunrise Blvd\, Fort Lauderdale\, Florida\, 33304
GEO:26.13781;-80.11346
X-APPLE-STRUCTURED-LOCATION;VALUE=URI;X-ADDRESS=Blue Martini – Fort Lauderdale 2432 E Sunrise Blvd Fort Lauderdale Florida 33304;X-APPLE-RADIUS=500;X-TITLE=2432 E Sunrise Blvd:geo:-80.11346,26.13781
END:VEVENT
BEGIN:VEVENT
DTSTART;TZID=America/New_York:20260722T140000
DTEND;TZID=America/New_York:20260723T040000
DTSTAMP:20260422T072318
CREATED:20251010T221437Z
LAST-MODIFIED:20251010T221438Z
UID:10005378-1784728800-1784779200@fortlauderdale.bluemartini.com
SUMMARY:LADIES NIGHT
DESCRIPTION:50% OFF DRINKS\nNO LINE NO COVER
URL:https://fortlauderdale.bluemartini.com/event/ladies-night-2/2026-07-22/
LOCATION:Blue Martini – Fort Lauderdale\, 2432 E Sunrise Blvd\, Fort Lauderdale\, Florida\, 33304
GEO:26.13781;-80.11346
X-APPLE-STRUCTURED-LOCATION;VALUE=URI;X-ADDRESS=Blue Martini – Fort Lauderdale 2432 E Sunrise Blvd Fort Lauderdale Florida 33304;X-APPLE-RADIUS=500;X-TITLE=2432 E Sunrise Blvd:geo:-80.11346,26.13781
END:VEVENT
BEGIN:VEVENT
DTSTART;TZID=America/New_York:20260729T140000
DTEND;TZID=America/New_York:20260730T040000
DTSTAMP:20260422T072318
CREATED:20251010T221437Z
LAST-MODIFIED:20251010T221438Z
UID:10005379-1785333600-1785384000@fortlauderdale.bluemartini.com
SUMMARY:LADIES NIGHT
DESCRIPTION:50% OFF DRINKS\nNO LINE NO COVER
URL:https://fortlauderdale.bluemartini.com/event/ladies-night-2/2026-07-29/
LOCATION:Blue Martini – Fort Lauderdale\, 2432 E Sunrise Blvd\, Fort Lauderdale\, Florida\, 33304
GEO:26.13781;-80.11346
X-APPLE-STRUCTURED-LOCATION;VALUE=URI;X-ADDRESS=Blue Martini – Fort Lauderdale 2432 E Sunrise Blvd Fort Lauderdale Florida 33304;X-APPLE-RADIUS=500;X-TITLE=2432 E Sunrise Blvd:geo:-80.11346,26.13781
END:VEVENT
BEGIN:VEVENT
DTSTART;TZID=America/New_York:20260805T140000
DTEND;TZID=America/New_York:20260806T040000
DTSTAMP:20260422T072318
CREATED:20251010T221437Z
LAST-MODIFIED:20251010T221438Z
UID:10005380-1785938400-1785988800@fortlauderdale.bluemartini.com
SUMMARY:LADIES NIGHT
DESCRIPTION:50% OFF DRINKS\nNO LINE NO COVER
URL:https://fortlauderdale.bluemartini.com/event/ladies-night-2/2026-08-05/
LOCATION:Blue Martini – Fort Lauderdale\, 2432 E Sunrise Blvd\, Fort Lauderdale\, Florida\, 33304
GEO:26.13781;-80.11346
X-APPLE-STRUCTURED-LOCATION;VALUE=URI;X-ADDRESS=Blue Martini – Fort Lauderdale 2432 E Sunrise Blvd Fort Lauderdale Florida 33304;X-APPLE-RADIUS=500;X-TITLE=2432 E Sunrise Blvd:geo:-80.11346,26.13781
END:VEVENT
BEGIN:VEVENT
DTSTART;TZID=America/New_York:20260812T140000
DTEND;TZID=America/New_York:20260813T040000
DTSTAMP:20260422T072318
CREATED:20251010T221437Z
LAST-MODIFIED:20251010T221438Z
UID:10005381-1786543200-1786593600@fortlauderdale.bluemartini.com
SUMMARY:LADIES NIGHT
DESCRIPTION:50% OFF DRINKS\nNO LINE NO COVER
URL:https://fortlauderdale.bluemartini.com/event/ladies-night-2/2026-08-12/
LOCATION:Blue Martini – Fort Lauderdale\, 2432 E Sunrise Blvd\, Fort Lauderdale\, Florida\, 33304
GEO:26.13781;-80.11346
X-APPLE-STRUCTURED-LOCATION;VALUE=URI;X-ADDRESS=Blue Martini – Fort Lauderdale 2432 E Sunrise Blvd Fort Lauderdale Florida 33304;X-APPLE-RADIUS=500;X-TITLE=2432 E Sunrise Blvd:geo:-80.11346,26.13781
END:VEVENT
BEGIN:VEVENT
DTSTART;TZID=America/New_York:20260819T140000
DTEND;TZID=America/New_York:20260820T040000
DTSTAMP:20260422T072318
CREATED:20251010T221437Z
LAST-MODIFIED:20251010T221438Z
UID:10005382-1787148000-1787198400@fortlauderdale.bluemartini.com
SUMMARY:LADIES NIGHT
DESCRIPTION:50% OFF DRINKS\nNO LINE NO COVER
URL:https://fortlauderdale.bluemartini.com/event/ladies-night-2/2026-08-19/
LOCATION:Blue Martini – Fort Lauderdale\, 2432 E Sunrise Blvd\, Fort Lauderdale\, Florida\, 33304
GEO:26.13781;-80.11346
X-APPLE-STRUCTURED-LOCATION;VALUE=URI;X-ADDRESS=Blue Martini – Fort Lauderdale 2432 E Sunrise Blvd Fort Lauderdale Florida 33304;X-APPLE-RADIUS=500;X-TITLE=2432 E Sunrise Blvd:geo:-80.11346,26.13781
END:VEVENT
BEGIN:VEVENT
DTSTART;TZID=America/New_York:20260826T140000
DTEND;TZID=America/New_York:20260827T040000
DTSTAMP:20260422T072318
CREATED:20251010T221437Z
LAST-MODIFIED:20251010T221438Z
UID:10005383-1787752800-1787803200@fortlauderdale.bluemartini.com
SUMMARY:LADIES NIGHT
DESCRIPTION:50% OFF DRINKS\nNO LINE NO COVER
URL:https://fortlauderdale.bluemartini.com/event/ladies-night-2/2026-08-26/
LOCATION:Blue Martini – Fort Lauderdale\, 2432 E Sunrise Blvd\, Fort Lauderdale\, Florida\, 33304
GEO:26.13781;-80.11346
X-APPLE-STRUCTURED-LOCATION;VALUE=URI;X-ADDRESS=Blue Martini – Fort Lauderdale 2432 E Sunrise Blvd Fort Lauderdale Florida 33304;X-APPLE-RADIUS=500;X-TITLE=2432 E Sunrise Blvd:geo:-80.11346,26.13781
END:VEVENT
BEGIN:VEVENT
DTSTART;TZID=America/New_York:20260902T140000
DTEND;TZID=America/New_York:20260903T040000
DTSTAMP:20260422T072318
CREATED:20251010T221437Z
LAST-MODIFIED:20251010T221438Z
UID:10005384-1788357600-1788408000@fortlauderdale.bluemartini.com
SUMMARY:LADIES NIGHT
DESCRIPTION:50% OFF DRINKS\nNO LINE NO COVER
URL:https://fortlauderdale.bluemartini.com/event/ladies-night-2/2026-09-02/
LOCATION:Blue Martini – Fort Lauderdale\, 2432 E Sunrise Blvd\, Fort Lauderdale\, Florida\, 33304
GEO:26.13781;-80.11346
X-APPLE-STRUCTURED-LOCATION;VALUE=URI;X-ADDRESS=Blue Martini – Fort Lauderdale 2432 E Sunrise Blvd Fort Lauderdale Florida 33304;X-APPLE-RADIUS=500;X-TITLE=2432 E Sunrise Blvd:geo:-80.11346,26.13781
END:VEVENT
BEGIN:VEVENT
DTSTART;TZID=America/New_York:20260909T140000
DTEND;TZID=America/New_York:20260910T040000
DTSTAMP:20260422T072318
CREATED:20251010T221437Z
LAST-MODIFIED:20251010T221438Z
UID:10005385-1788962400-1789012800@fortlauderdale.bluemartini.com
SUMMARY:LADIES NIGHT
DESCRIPTION:50% OFF DRINKS\nNO LINE NO COVER
URL:https://fortlauderdale.bluemartini.com/event/ladies-night-2/2026-09-09/
LOCATION:Blue Martini – Fort Lauderdale\, 2432 E Sunrise Blvd\, Fort Lauderdale\, Florida\, 33304
GEO:26.13781;-80.11346
X-APPLE-STRUCTURED-LOCATION;VALUE=URI;X-ADDRESS=Blue Martini – Fort Lauderdale 2432 E Sunrise Blvd Fort Lauderdale Florida 33304;X-APPLE-RADIUS=500;X-TITLE=2432 E Sunrise Blvd:geo:-80.11346,26.13781
END:VEVENT
BEGIN:VEVENT
DTSTART;TZID=America/New_York:20260916T140000
DTEND;TZID=America/New_York:20260917T040000
DTSTAMP:20260422T072318
CREATED:20251010T221437Z
LAST-MODIFIED:20251010T221438Z
UID:10005386-1789567200-1789617600@fortlauderdale.bluemartini.com
SUMMARY:LADIES NIGHT
DESCRIPTION:50% OFF DRINKS\nNO LINE NO COVER
URL:https://fortlauderdale.bluemartini.com/event/ladies-night-2/2026-09-16/
LOCATION:Blue Martini – Fort Lauderdale\, 2432 E Sunrise Blvd\, Fort Lauderdale\, Florida\, 33304
GEO:26.13781;-80.11346
X-APPLE-STRUCTURED-LOCATION;VALUE=URI;X-ADDRESS=Blue Martini – Fort Lauderdale 2432 E Sunrise Blvd Fort Lauderdale Florida 33304;X-APPLE-RADIUS=500;X-TITLE=2432 E Sunrise Blvd:geo:-80.11346,26.13781
END:VEVENT
BEGIN:VEVENT
DTSTART;TZID=America/New_York:20260923T140000
DTEND;TZID=America/New_York:20260924T040000
DTSTAMP:20260422T072318
CREATED:20251010T221437Z
LAST-MODIFIED:20251010T221438Z
UID:10005387-1790172000-1790222400@fortlauderdale.bluemartini.com
SUMMARY:LADIES NIGHT
DESCRIPTION:50% OFF DRINKS\nNO LINE NO COVER
URL:https://fortlauderdale.bluemartini.com/event/ladies-night-2/2026-09-23/
LOCATION:Blue Martini – Fort Lauderdale\, 2432 E Sunrise Blvd\, Fort Lauderdale\, Florida\, 33304
GEO:26.13781;-80.11346
X-APPLE-STRUCTURED-LOCATION;VALUE=URI;X-ADDRESS=Blue Martini – Fort Lauderdale 2432 E Sunrise Blvd Fort Lauderdale Florida 33304;X-APPLE-RADIUS=500;X-TITLE=2432 E Sunrise Blvd:geo:-80.11346,26.13781
END:VEVENT
BEGIN:VEVENT
DTSTART;TZID=America/New_York:20260930T140000
DTEND;TZID=America/New_York:20261001T040000
DTSTAMP:20260422T072318
CREATED:20251010T221437Z
LAST-MODIFIED:20251010T221438Z
UID:10005388-1790776800-1790827200@fortlauderdale.bluemartini.com
SUMMARY:LADIES NIGHT
DESCRIPTION:50% OFF DRINKS\nNO LINE NO COVER
URL:https://fortlauderdale.bluemartini.com/event/ladies-night-2/2026-09-30/
LOCATION:Blue Martini – Fort Lauderdale\, 2432 E Sunrise Blvd\, Fort Lauderdale\, Florida\, 33304
GEO:26.13781;-80.11346
X-APPLE-STRUCTURED-LOCATION;VALUE=URI;X-ADDRESS=Blue Martini – Fort Lauderdale 2432 E Sunrise Blvd Fort Lauderdale Florida 33304;X-APPLE-RADIUS=500;X-TITLE=2432 E Sunrise Blvd:geo:-80.11346,26.13781
END:VEVENT
BEGIN:VEVENT
DTSTART;TZID=America/New_York:20261007T140000
DTEND;TZID=America/New_York:20261008T040000
DTSTAMP:20260422T072318
CREATED:20251010T221437Z
LAST-MODIFIED:20251010T221438Z
UID:10005389-1791381600-1791432000@fortlauderdale.bluemartini.com
SUMMARY:LADIES NIGHT
DESCRIPTION:50% OFF DRINKS\nNO LINE NO COVER
URL:https://fortlauderdale.bluemartini.com/event/ladies-night-2/2026-10-07/
LOCATION:Blue Martini – Fort Lauderdale\, 2432 E Sunrise Blvd\, Fort Lauderdale\, Florida\, 33304
GEO:26.13781;-80.11346
X-APPLE-STRUCTURED-LOCATION;VALUE=URI;X-ADDRESS=Blue Martini – Fort Lauderdale 2432 E Sunrise Blvd Fort Lauderdale Florida 33304;X-APPLE-RADIUS=500;X-TITLE=2432 E Sunrise Blvd:geo:-80.11346,26.13781
END:VEVENT
BEGIN:VEVENT
DTSTART;TZID=America/New_York:20261014T140000
DTEND;TZID=America/New_York:20261015T040000
DTSTAMP:20260422T072318
CREATED:20251010T221437Z
LAST-MODIFIED:20251010T221438Z
UID:10005390-1791986400-1792036800@fortlauderdale.bluemartini.com
SUMMARY:LADIES NIGHT
DESCRIPTION:50% OFF DRINKS\nNO LINE NO COVER
URL:https://fortlauderdale.bluemartini.com/event/ladies-night-2/2026-10-14/
LOCATION:Blue Martini – Fort Lauderdale\, 2432 E Sunrise Blvd\, Fort Lauderdale\, Florida\, 33304
GEO:26.13781;-80.11346
X-APPLE-STRUCTURED-LOCATION;VALUE=URI;X-ADDRESS=Blue Martini – Fort Lauderdale 2432 E Sunrise Blvd Fort Lauderdale Florida 33304;X-APPLE-RADIUS=500;X-TITLE=2432 E Sunrise Blvd:geo:-80.11346,26.13781
END:VEVENT
BEGIN:VEVENT
DTSTART;TZID=America/New_York:20261021T140000
DTEND;TZID=America/New_York:20261022T040000
DTSTAMP:20260422T072318
CREATED:20251010T221437Z
LAST-MODIFIED:20251010T221438Z
UID:10005391-1792591200-1792641600@fortlauderdale.bluemartini.com
SUMMARY:LADIES NIGHT
DESCRIPTION:50% OFF DRINKS\nNO LINE NO COVER
URL:https://fortlauderdale.bluemartini.com/event/ladies-night-2/2026-10-21/
LOCATION:Blue Martini – Fort Lauderdale\, 2432 E Sunrise Blvd\, Fort Lauderdale\, Florida\, 33304
GEO:26.13781;-80.11346
X-APPLE-STRUCTURED-LOCATION;VALUE=URI;X-ADDRESS=Blue Martini – Fort Lauderdale 2432 E Sunrise Blvd Fort Lauderdale Florida 33304;X-APPLE-RADIUS=500;X-TITLE=2432 E Sunrise Blvd:geo:-80.11346,26.13781
END:VEVENT
BEGIN:VEVENT
DTSTART;TZID=America/New_York:20261028T140000
DTEND;TZID=America/New_York:20261029T040000
DTSTAMP:20260422T072318
CREATED:20251010T221437Z
LAST-MODIFIED:20251010T221438Z
UID:10005392-1793196000-1793246400@fortlauderdale.bluemartini.com
SUMMARY:LADIES NIGHT
DESCRIPTION:50% OFF DRINKS\nNO LINE NO COVER
URL:https://fortlauderdale.bluemartini.com/event/ladies-night-2/2026-10-28/
LOCATION:Blue Martini – Fort Lauderdale\, 2432 E Sunrise Blvd\, Fort Lauderdale\, Florida\, 33304
GEO:26.13781;-80.11346
X-APPLE-STRUCTURED-LOCATION;VALUE=URI;X-ADDRESS=Blue Martini – Fort Lauderdale 2432 E Sunrise Blvd Fort Lauderdale Florida 33304;X-APPLE-RADIUS=500;X-TITLE=2432 E Sunrise Blvd:geo:-80.11346,26.13781
END:VEVENT
BEGIN:VEVENT
DTSTART;TZID=America/New_York:20261104T140000
DTEND;TZID=America/New_York:20261105T040000
DTSTAMP:20260422T072318
CREATED:20251010T221437Z
LAST-MODIFIED:20251010T221438Z
UID:10005393-1793800800-1793851200@fortlauderdale.bluemartini.com
SUMMARY:LADIES NIGHT
DESCRIPTION:50% OFF DRINKS\nNO LINE NO COVER
URL:https://fortlauderdale.bluemartini.com/event/ladies-night-2/2026-11-04/
LOCATION:Blue Martini – Fort Lauderdale\, 2432 E Sunrise Blvd\, Fort Lauderdale\, Florida\, 33304
GEO:26.13781;-80.11346
X-APPLE-STRUCTURED-LOCATION;VALUE=URI;X-ADDRESS=Blue Martini – Fort Lauderdale 2432 E Sunrise Blvd Fort Lauderdale Florida 33304;X-APPLE-RADIUS=500;X-TITLE=2432 E Sunrise Blvd:geo:-80.11346,26.13781
END:VEVENT
BEGIN:VEVENT
DTSTART;TZID=America/New_York:20261111T140000
DTEND;TZID=America/New_York:20261112T040000
DTSTAMP:20260422T072318
CREATED:20251010T221437Z
LAST-MODIFIED:20251010T221438Z
UID:10005394-1794405600-1794456000@fortlauderdale.bluemartini.com
SUMMARY:LADIES NIGHT
DESCRIPTION:50% OFF DRINKS\nNO LINE NO COVER
URL:https://fortlauderdale.bluemartini.com/event/ladies-night-2/2026-11-11/
LOCATION:Blue Martini – Fort Lauderdale\, 2432 E Sunrise Blvd\, Fort Lauderdale\, Florida\, 33304
GEO:26.13781;-80.11346
X-APPLE-STRUCTURED-LOCATION;VALUE=URI;X-ADDRESS=Blue Martini – Fort Lauderdale 2432 E Sunrise Blvd Fort Lauderdale Florida 33304;X-APPLE-RADIUS=500;X-TITLE=2432 E Sunrise Blvd:geo:-80.11346,26.13781
END:VEVENT
END:VCALENDAR